Workbook

Sheet listed vs. sold
A1: LAST UPDATED March 7, 2013
B3: Single Family | G3: Condo/Townhome
B4: # Listed | C4: # Sold | G4: # Listed | H4: # Sold
A5: 2009 | B5: =SUM('Single Family Listed'!N2) -> 57016 | C5: =SUM('Single Family Sold'!N2) -> 38127 | D5: =SUM(C5/B5) -> 0.66870703 | F5: 2009 | G5: =SUM('Condo Listed'!N2) -> 14249 | H5: =SUM('Condo Sold'!N2) -> 8752 | I5: =SUM(H5/G5) -> 0.61421854
A6: 2010 | B6: =SUM('Single Family Listed'!N3) -> 56643 | C6: =SUM('Single Family Sold'!N3) -> 34434 | D6: =SUM(C6/B6) -> 0.60791272 | F6: 2010 | G6: =SUM('Condo Listed'!N3) -> 12838 | H6: =SUM('Condo Sold'!N3) -> 8526 | I6: =SUM(H6/G6) -> 0.66412214
A7: 2011 | B7: =SUM('Single Family Listed'!N4) -> 55174 | C7: =SUM('Single Family Sold'!N4) -> 38153 | D7: =SUM(C7/B7) -> 0.69150324 | F7: 2011 | G7: =SUM('Condo Listed'!N4) -> 11537 | H7: =SUM('Condo Sold'!N4) -> 9146 | I7: =SUM(H7/G7) -> 0.79275375
A8: 2012 | B8: =SUM('Single Family Listed'!N5) -> 40271 | C8: =SUM('Single Family Sold'!N5) -> 36609 | D8: =SUM(C8/B8) -> 0.90906608 | F8: 2012 | G8: =SUM('Condo Listed'!N5) -> 8411 | H8: =SUM('Condo Sold'!N5) -> 7569 | I8: =SUM(H8/G8) -> 0.899893
A9: 2013 | B9: =SUM('Single Family Listed'!N6) -> 12291 | C9: =SUM('Single Family Sold'!N6) -> 10937 | D9: =SUM(C9/B9) -> 0.88983809 | F9: 2013 | G9: =SUM('Condo Listed'!N6) -> 2785 | H9: =SUM('Condo Sold'!N6) -> 2266 | I9: =SUM(H9/G9) -> 0.81364452

Sheet Single Family Listed
B1: Jan | C1: Feb | D1: Mar | E1: Apr | F1: May | G1: Jun | H1: Jul | I1: Aug | J1: Sep | K1: Oct | L1: Nov | M1: Dec | N1: Total
A2: 2009 | B2: 5002 | C2: 4954 | D2: 5643 | E2: 4297 | F2: 4211 | G2: 4799 | H2: 5087 | I2: 5104 | J2: 4926 | K2: 5482 | L2: 4039 | M2: 3472 | N2: =SUM(B2:M2) -> 57016
A3: 2010 | B3: 5323 | C3: 4094 | D3: 4494 | E3: 4717 | F3: 4408 | G3: 4759 | H3: 4662 | I3: 5007 | J3: 5871 | K3: 5589 | L3: 3973 | M3: 3746 | N3: =SUM(B3:M3) -> 56643
A4: 2011 | B4: 4555 | C4: 4286 | D4: 4830 | E4: 4875 | F4: 5055 | G4: 4916 | H4: 4533 | I4: 4688 | J4: 5046 | K4: 4851 | L4: 4355 | M4: 3184 | N4: =SUM(B4:M4) -> 55174
A5: 2012 | B5: 4003 | C5: 3608 | D5: 3832 | E5: 3490 | F5: 3335 | G5: 3349 | H5: 3496 | I5: 3710 | J5: 3282 | K5: 3265 | L5: 2727 | M5: 2174 | N5: =SUM(B5:M5) -> 40271
A6: 2013 | B6: 2839 | C6: 2861 | D6: 3091 | E6: 3500 | N6: =SUM(B6:M6) -> 12291

Sheet Condo Listed
B1: Jan | C1: Feb | D1: Mar | E1: Apr | F1: May | G1: Jun | H1: Jul | I1: Aug | J1: Sep | K1: Oct | L1: Nov | M1: Dec | N1: Total
A2: 2009 | B2: 1211 | C2: 1204 | D2: 1362 | E2: 1079 | F2: 1099 | G2: 1218 | H2: 1338 | I2: 1271 | J2: 1246 | K2: 1377 | L2: 958 | M2: 886 | N2: =SUM(B2:M2) -> 14249
A3: 2010 | B3: 987 | C3: 991 | D3: 1088 | E3: 1166 | F3: 1131 | G3: 1213 | H3: 1109 | I3: 1071 | J3: 1126 | K3: 1084 | L3: 950 | M3: 922 | N3: =SUM(B3:M3) -> 12838
A4: 2011 | B4: 1068 | C4: 960 | D4: 1069 | E4: 1144 | F4: 1090 | G4: 1102 | H4: 1044 | I4: 915 | J4: 906 | K4: 835 | L4: 743 | M4: 661 | N4: =SUM(B4:M4) -> 11537
A5: 2012 | B5: 827 | C5: 756 | D5: 817 | E5: 650 | F5: 656 | G5: 698 | H5: 742 | I5: 753 | J5: 690 | K5: 707 | L5: 593 | M5: 522 | N5: =SUM(B5:M5) -> 8411
A6: 2013 | B6: 699 | C6: 657 | D6: 678 | E6: 751 | N6: =SUM(B6:M6) -> 2785

Sheet Single Family Sold
B1: Jan | C1: Feb | D1: Mar | E1: Apr | F1: May | G1: Jun | H1: Jul | I1: Aug | J1: Sep | K1: Oct | L1: Nov | M1: Dec | N1: Total
A2: 2009 | B2: 2224 | C2: 2288 | D2: 2980 | E2: 3198 | F2: 3255 | G2: 3785 | H2: 3738 | I2: 3229 | J2: 3358 | K2: 3535 | L2: 3117 | M2: 3420 | N2: =SUM(B2:M2) -> 38127
A3: 2010 | B3: 2608 | C3: 2390 | D3: 3175 | E3: 2951 | F3: 2884 | G3: 3360 | H3: 2948 | I3: 2819 | J3: 2806 | K3: 2599 | L3: 2777 | M3: 3117 | N3: =SUM(B3:M3) -> 34434
A4: 2011 | B4: 2509 | C4: 2591 | D4: 3384 | E4: 3084 | F4: 3111 | G4: 3629 | H4: 3164 | I4: 3706 | J4: 3242 | K4: 3118 | L4: 3159 | M4: 3456 | N4: =SUM(B4:M4) -> 38153
A5: 2012 | B5: 2931 | C5: 3053 | D5: 3534 | E5: 3185 | F5: 3413 | G5: 3214 | H5: 2890 | I5: 3076 | J5: 2666 | K5: 3004 | L5: 2682 | M5: 2961 | N5: =SUM(B5:M5) -> 36609
A6: 2013 | B6: 2284 | C6: 2640 | D6: 2959 | E6: 3054 | N6: =SUM(B6:M6) -> 10937

Sheet Condo Sold
B1: Jan | C1: Feb | D1: Mar | E1: Apr | F1: May | G1: Jun | H1: Jul | I1: Aug | J1: Sep | K1: Oct | L1: Nov | M1: Dec | N1: Total
A2: 2009 | B2: 440 | C2: 442 | D2: 604 | E2: 727 | F2: 737 | G2: 917 | H2: 864 | I2: 810 | J2: 859 | K2: 850 | L2: 726 | M2: 776 | N2: =SUM(B2:M2) -> 8752
A3: 2010 | B3: 594 | C3: 623 | D3: 728 | E3: 710 | F3: 690 | G3: 824 | H3: 725 | I3: 742 | J3: 703 | K3: 708 | L3: 674 | M3: 805 | N3: =SUM(B3:M3) -> 8526
A4: 2011 | B4: 621 | C4: 691 | D4: 846 | E4: 742 | F4: 789 | G4: 843 | H4: 799 | I4: 919 | J4: 800 | K4: 704 | L4: 674 | M4: 718 | N4: =SUM(B4:M4) -> 9146
A5: 2012 | B5: 600 | C5: 680 | D5: 775 | E5: 674 | F5: 657 | G5: 656 | H5: 613 | I5: 612 | J5: 570 | K5: 603 | L5: 543 | M5: 586 | N5: =SUM(B5:M5) -> 7569
A6: 2013 | B6: 479 | C6: 529 | D6: 609 | E6: 649 | N6: =SUM(B6:M6) -> 2266

Sheet Sales
A1: Sales for Year
A2: All Property Types
A3: (This includes SFR, CON, TWH, MUL, LND)
A4: RNT is included in the closings through 2007.
B5: 2009 | C5: 2010 | D5: 2011 | E5: 2012 | F5: 2013
A6: January | B6: 2709 | C6: 3239 | D6: 3315 | E6: 3649 | F6: 2858
A7: February | B7: 2768 | C7: 3100 | D7: 3371 | E7: 3833 | F7: 3278
A8: March | B8: 3638 | C8: 3998 | D8: 4373 | E8: 4454 | F8: 3697
A9: April | B9: 3980 | C9: 3763 | D9: 3953 | E9: 4004 | F9: 3865
A10: May | B10: 4049 | C10: 3666 | D10: 4014 | E10: 4201
A11: June | B11: 4735 | C11: 4290 | D11: 4592 | E11: 4042
A12: July | B12: 4668 | C12: 3768 | D12: 4097 | E12: 3634
A13: August | B13: 4117 | C13: 3657 | D13: 4761 | E13: 3818
A14: September | B14: 4312 | C14: 3601 | D14: 4126 | E14: 3336
A15: October | B15: 4494 | C15: 3386 | D15: 3942 | E15: 3737
A16: November | B16: 3930 | C16: 3539 | D16: 3947 | E16: 3325
A17: December | B17: 4285 | C17: 4038 | D17: 4307 | E17: 3665
B18: =SUM(B6:B17) -> 47685 | C18: =SUM(C6:C17) -> 44045 | D18: =SUM(D6:D17) -> 48798 | E18: =SUM(E6:E17) -> 45698 | F18: =SUM(F6:F17) -> 13698

Sheet Listings
A1: Listings for Year
A2: All Property Types
A3: (This includes SFR, CON, TWH, MUL, LND)
A4: RNT is included in the new listings through 2007.
B5: 2009 | C5: 2010 | D5: 2011 | E5: 2012 | F5: 2013
A6: January | B6: 6656 | C6: 5495 | D6: 6126 | E6: 5203 | F6: 3951
A7: February | B7: 6520 | C7: 5479 | D7: 5557 | E7: 4696 | F7: 3996
A8: March | B8: 7464 | C8: 6100 | D8: 6339 | E8: 5038 | F8: 4366
A9: April | B9: 5745 | C9: 6361 | D9: 6454 | E9: 4523 | F9: 4812
A10: May | B10: 5733 | C10: 6007 | D10: 6592 | E10: 4421
A11: June | B11: 6191 | C11: 6463 | D11: 6380 | E11: 4448
A12: July | B12: 6880 | C12: 6160 | D12: 5962 | E12: 4644
A13: August | B13: 6893 | C13: 6465 | D13: 6008 | E13: 4856
A14: September | B14: 6452 | C14: 6270 | D14: 5350 | E14: 4282
A15: October | B15: 6460 | C15: 5926 | D15: 5214 | E15: 4495
A16: November | B16: 5447 | C16: 5244 | D16: 4699 | E16: 3611
A17: December | B17: 4713 | C17: 5012 | D17: 4138 | E17: 2941
B18: =SUM(B6:B17) -> 75154 | C18: =SUM(C6:C17) -> 70982 | D18: =SUM(D6:D17) -> 68819 | E18: =SUM(E6:E17) -> 53158 | F18: =SUM(F6:F17) -> 17125

Sheet Average Price
A1: Single Family | B1: Jan | C1: Feb | D1: Mar | E1: Apr | F1: May | G1: Jun | H1: Jul | I1: Aug | J1: 61138 | K1: Oct | L1: Nov | M1: Dec | N1: Average Price
A2: 2009 | B2: 186573 | C2: 184193 | D2: 173029 | E2: 166196 | F2: 172558 | G2: 167425 | H2: 163494 | I2: 164693 | J2: 167911 | K2: 164778 | L2: 167178 | M2: 163384 | N2: =SUM(B2:M2)/12 -> 170117.67
A3: 2010 | B3: 164687 | C3: 168361 | D3: 167978 | E3: 173170 | F3: 170488 | G3: 167888 | H3: 165332 | I3: 168955 | J3: 169825 | K3: 159922 | L3: 162660 | M3: 163736 | N3: =SUM(B3:M3)/12 -> 166916.83
A4: 2011 | B4: 157081 | C4: 156337 | D4: 156860 | E4: 158793 | F4: 157964 | G4: 148182 | H4: 151077 | I4: 147398 | J4: 152575 | K4: 150034 | L4: 151343 | M4: 147445 | N4: =SUM(B4:M4)/12 -> 152924.08
A5: 2012 | B5: 143210 | C5: 148699 | D5: 152004 | E5: 159466 | F5: 159927 | G5: 165948 | H5: 171335 | I5: 177959 | J5: 173529 | K5: 174708 | L5: 182419 | M5: 182768 | N5: =SUM(B5:M5)/12 -> 165997.67
A6: 2013 | B6: 189107 | C6: 189180 | D6: 198353 | E6: 209216 | N6: =SUM(B6:M6)/4 -> 196464
A7: Condominium | B7: Jan | C7: Feb | D7: Mar | E7: Apr | F7: May | G7: Jun | H7: Jul | I7: Aug | J7: Sep | K7: Oct | L7: Nov | M7: Dec | N7: Average Price
A8: 2009 | B8: 102495 | C8: 94596 | D8: 90794 | E8: 84235 | F8: 84072 | G8: 85931 | H8: 87256 | I8: 95521 | J8: 83735 | K8: 87522 | L8: 79602 | M8: 76590 | N8: =SUM(B8:M8)/12 -> 87695.75
A9: 2010 | B9: 72045 | C9: 73199 | D9: 74215 | E9: 78297 | F9: 79425 | G9: 76210 | H9: 74927 | I9: 72471 | J9: 71842 | K9: 71127 | L9: 68069 | M9: 66084 | N9: =SUM(B9:M9)/12 -> 73159.25
A10: 2011 | B10: 68914 | C10: 65206 | D10: 66161 | E10: 63913 | F10: 65756 | G10: 64512 | H10: 63450 | I10: 62037 | J10: 61138 | K10: 62268 | L10: 62155 | M10: 63166 | N10: =SUM(B10:M10)/12 -> 64056.333
A11: 2011 | B11: 60629 | C11: 64366 | D11: 63463 | E11: 63717 | F11: 68404 | G11: 72673 | H11: 71398 | I11: 74261 | J11: 77345 | K11: 75941 | L11: 77490 | M11: 81101 | N11: =SUM(B11:M11)/12 -> 70899
A12: 2013 | B12: 82159 | C12: 87552 | D12: 87626 | E12: 91116 | N12: =SUM(B12:M12)/4 -> 87113.25
B13: 2009 | C13: 2010 | D13: 2011 | E13: 2012 | F13: 2013
A14: Single Family | B14: =SUM(N2) -> 170117.67 | C14: =SUM(N3) -> 166916.83 | D14: =SUM(N4) -> 152924.08 | E14: =SUM(N5) -> 165997.67 | F14: =SUM(N6) -> 196464
A15: Condominium | B15: 87696 | C15: =SUM(N9) -> 73159.25 | D15: =SUM(N10) -> 64056.333 | E15: =SUM(N11) -> 70899 | F15: =SUM(N12) -> 87113.25

Sheet Median Price
A1: SFR | B1: Jan | C1: Feb | D1: Mar | E1: Apr | F1: May | G1: Jun | H1: Jul | I1: Aug | J1: Sep | K1: Oct | L1: Nov | M1: Dec | N1: Medium Price
A2: 2009 | B2: 160000 | C2: 155603 | D2: 149000 | E2: 141720 | F2: 140000 | G2: 140000 | H2: 138800 | I2: 135500 | J2: 138000 | K2: 139100 | L2: 140000 | M2: 136000 | N2: =MEDIAN(B2:M2) -> 140000
A3: 2010 | B3: 134925 | C3: 135694 | D3: 136000 | E3: 142000 | F3: 142000 | G3: 140000 | H3: 135000 | I3: 140000 | J3: 135000 | K3: 133000 | L3: 134900 | M3: 132000 | N3: =MEDIAN(B3:M3) -> 135347
A4: 2011 | B4: 125000 | C4: 128000 | D4: 125950 | E4: 125000 | F4: 126000 | G4: 124500 | H4: 122000 | I4: 120000 | J4: 123400 | K4: 121000 | L4: 125000 | M4: 120000 | N4: =MEDIAN(B4:M4) -> 124750
A5: 2012 | B5: 118000 | C5: 121000 | D5: 123000 | E5: 127900 | F5: 128000 | G5: 131785 | H5: 133000 | I5: 138000 | J5: 140000 | K5: 140000 | L5: 146000 | M5: 149000 | N5: =MEDIAN(B5:M5) -> 132392.5
A6: 2013 | B6: 150000 | C6: 150000 | D6: 161000 | E6: 167000 | N6: =MEDIAN(B6:M6) -> 155500
A8: Condo | B8: Jan | C8: Feb | D8: Mar | E8: Apr | F8: May | G8: Jun | H8: Jul | I8: Aug | J8: Sep | K8: Oct | L8: Nov | M8: Dec | N8: Medium Price
A9: 2009 | B9: 204450 | C9: 75000 | D9: 70500 | E9: 64500 | F9: 65000 | G9: 66000 | H9: 67000 | I9: 66288 | J9: 65720 | K9: 70000 | L9: 68000 | M9: 65300 | N9: =MEDIAN(C9:M9) -> 66288
A10: 2010 | B10: 65000 | C10: 63250 | D10: 65000 | E10: 67400 | F10: 67250 | G10: 67950 | H10: 65000 | I10: 65000 | J10: 61000 | K10: 60000 | L10: 62000 | M10: 59000 | N10: =MEDIAN(B10:M10) -> 65000
A11: 2011 | B11: 60375 | C11: 58500 | D11: 58900 | E11: 57000 | F11: 60000 | G11: 57000 | H11: 55000 | I11: 53500 | J11: 54500 | K11: 56000 | L11: 55000 | M11: 55000 | N11: =MEDIAN(B11:M11) -> 56500
A12: 2012 | B12: 52000 | C12: 57000 | D12: 58000 | E12: 57000 | F12: 59000 | G12: 63400 | H12: 64000 | I12: 65000 | J12: 67000 | K12: 68000 | L12: 69000 | M12: 71000 | N12: =MEDIAN(B12:M12) -> 63700
A13: 2013 | B13: 70000 | C13: 76000 | D13: 75000 | E13: 79000 | N13: =MEDIAN(B13:M13) -> 75500
B14: 2009 | C14: 2010 | D14: 2011 | E14: 2012 | F14: 2013
A15: SFR | B15: 140000 | C15: =SUM(M4) -> 120000 | D15: =SUM(M5) -> 149000 | E15: =SUM(N5) -> 132392.5 | F15: =SUM(N6) -> 155500
A16: Condo | B16: 66644 | C16: =SUM(M11) -> 55000 | D16: =SUM(M12) -> 71000 | E16: =SUM(N12) -> 63700 | F16: =SUM(N13) -> 75500

Sheet Listed vs. Leased
B1: Residential Rental
B2: # Listed | C2: # Leased
A3: 2009 | B3: =SUM('Rental Listed'!$N$2) -> 22471 | C3: =SUM('Rental Leased'!N2) -> 21756 | D3: =SUM(C3/B3) -> 0.96818121
A4: 2010 | B4: =SUM('Rental Listed'!$N$3) -> 20828 | C4: =SUM('Rental Leased'!N3) -> 25100 | D4: =SUM(C4/B4) -> 1.2051085
A5: 2011 | B5: =SUM('Rental Listed'!$N$4) -> 25632 | C5: =SUM('Rental Leased'!N4) -> 28272 | D5: =SUM(C5/B5) -> 1.1029963
A6: 2012 | B6: =SUM('Rental Listed'!$N$5) -> 27774 | C6: =SUM('Rental Leased'!N5) -> 33653 | D6: =SUM(C6/B6) -> 1.2116728
A7: 2013 | B7: =SUM('Rental Listed'!$N$6) -> 8977 | C7: =SUM('Rental Leased'!N6) -> 12117 | D7: =SUM(C7/B7) -> 1.3497828

Sheet Rental Listed
B1: Jan | C1: Feb | D1: Mar | E1: Apr | F1: May | G1: Jun | H1: Jul | I1: Aug | J1: Sep | K1: Oct | L1: Nov | M1: Dec | N1: Total
A2: 2009 | B2: 1948 | C2: 1581 | D2: 1921 | E2: 1761 | F2: 1692 | G2: 1992 | H2: 2021 | I2: 2001 | J2: 1928 | K2: 1989 | L2: 1853 | M2: 1784 | N2: =SUM(B2:M2) -> 22471
A3: 2010 | B3: 1793 | C3: 1537 | D3: 1782 | E3: 1490 | F3: 1671 | G3: 1916 | H3: 1990 | I3: 1743 | J3: 1909 | K3: 1959 | L3: 1263 | M3: 1775 | N3: =SUM(B3:M3) -> 20828
A4: 2011 | B4: 1900 | C4: 1725 | D4: 1631 | E4: 1892 | F4: 2022 | G4: 2247 | H4: 1922 | I4: 2678 | J4: 2521 | K4: 2653 | L4: 2173 | M4: 2268 | N4: =SUM(B4:M4) -> 25632
A5: 2012 | B5: 2230 | C5: 1984 | D5: 2196 | E5: 2149 | F5: 2222 | G5: 2445 | H5: 2351 | I5: 2559 | J5: 2422 | K5: 2582 | L5: 2287 | M5: 2347 | N5: =SUM(B5:M5) -> 27774
A6: 2013 | B6: 2371 | C6: 2140 | D6: 2135 | E6: 2331 | N6: =SUM(B6:M6) -> 8977

Sheet Rental Leased
B1: Jan | C1: Feb | D1: Mar | E1: Apr | F1: May | G1: Jun | H1: Jul | I1: Aug | J1: Sep | K1: Oct | L1: Nov | M1: Dec | N1: Total
A2: 2009 | B2: 1651 | C2: 1702 | D2: 1825 | E2: 1677 | F2: 1760 | G2: 1833 | H2: 2029 | I2: 2011 | J2: 1849 | K2: 2015 | L2: 1691 | M2: 1713 | N2: =SUM(B2:M2) -> 21756
A3: 2010 | B3: 1784 | C3: 2102 | D3: 2269 | E3: 2210 | F3: 2049 | G3: 2214 | H3: 2106 | I3: 2300 | J3: 2171 | K3: 2119 | L3: 1887 | M3: 1889 | N3: =SUM(B3:M3) -> 25100
A4: 2011 | B4: 2002 | C4: 2253 | D4: 2330 | E4: 2342 | F4: 2376 | G4: 2485 | H4: 2396 | I4: 2750 | J4: 2535 | K4: 2399 | L4: 2290 | M4: 2114 | N4: =SUM(B4:M4) -> 28272
A5: 2012 | B5: 2471 | C5: 2835 | D5: 3031 | E5: 2590 | F5: 2880 | G5: 3007 | H5: 2912 | I5: 3409 | J5: 2626 | K5: 2913 | L5: 2690 | M5: 2289 | N5: =SUM(B5:M5) -> 33653
A6: 2013 | B6: 2608 | C6: 3141 | D6: 3237 | E6: 3131 | N6: =SUM(B6:M6) -> 12117

Sheet RNT Ave Med Price
B1: Jan | C1: Feb | D1: Mar | E1: Apr | F1: May | G1: Jun | H1: Jul | I1: Aug | J1: Sep | K1: Oct | L1: Nov | M1: Dec | N1: Average Price
A2: 2009 | B2: 2083 | C2: 1419 | D2: 1365 | E2: 1461 | F2: 1348 | G2: 1299 | H2: 1405 | I2: 1255 | J2: 1477 | K2: 1264 | L2: 1261 | M2: 1313 | N2: =SUM(B2:M2)/12 -> 1412.5
A3: 2010 | B3: 1582 | C3: 1731 | D3: 1193 | E3: 1413 | F3: 1254 | G3: 1410 | H3: 1425 | I3: 1459 | J3: 1484 | K3: 1308 | L3: 1184 | M3: 1563 | N3: =SUM(B3:J3)/12 -> 1079.25
A4: 2011 | B4: 1449 | C4: 1501 | D4: 1497 | E4: 1207 | F4: 1257 | G4: 1765 | H4: 1434 | I4: 1422 | J4: 1279 | K4: 1355 | L4: 1328 | M4: 1307 | N4: =SUM(B4:M4)/12 -> 1400.0833
A5: 2012 | B5: 1447 | C5: 1347 | D5: 1621 | E5: 1299 | F5: 1235 | G5: 1222 | H5: 1491 | I5: 1323 | J5: 1308 | K5: 1821 | L5: 1240 | M5: 1535 | N5: =SUM(B5:M5)/12 -> 1407.4167
A6: 2013 | B6: 1462 | C6: 1274 | D6: 1336 | E6: 1281 | N6: =SUM(B6:M6)/4 -> 1338.25
B8: Jan | C8: Feb | D8: Mar | E8: Apr | F8: May | G8: Jun | H8: Jul | I8: Aug | J8: Sep | K8: Oct | L8: Nov | M8: Dec | N8: Median Price
A9: 2009 | B9: 1200 | C9: 1200 | D9: 1200 | E9: 1200 | F9: 1200 | G9: 1195 | H9: 1195 | I9: 1150 | J9: 1150 | K9: 1125 | L9: 1145 | M9: 1100 | N9: =MEDIAN(B9:M9) -> 1195
A10: 2010 | B10: 1100 | C10: 1100 | D10: 1100 | E10: 1100 | F10: 1150 | G10: 1100 | H10: 1100 | I10: 1150 | J10: 1100 | K10: 1150 | L10: 1100 | M10: 1100 | N10: =SUM(B10:M10)/12 -> 1112.5
A11: 2011 | B11: 1100 | C11: 1100 | D11: 1100 | E11: 1100 | F11: 1150 | G11: 1150 | H11: 1125 | I11: 1125 | J11: 1145 | K11: 1100 | L11: 1095 | M11: 1095 | N11: =SUM(B11:M11)/12 -> 1115.4167
A12: 2012 | B12: 1095 | C12: 1080 | D12: 1095 | E12: 1095 | F12: 1100 | G12: 1100 | H12: 1100 | I12: 1095 | J12: 1095 | K12: 1100 | L12: 1100 | M12: 1075 | N12: =SUM(B12:M12)/12 -> 1094.1667
A13: 2013 | B13: 1095 | C13: 1050 | D13: 1095 | E13: 1100 | N13: =MEDIAN(B13:M13) -> 1095

Sheet Vert List vs. Sold
B1: Vertical
B2: # Listed | C2: # Sold
A3: 2010 | B3: =+'Vert Listed'!N2 -> 553 | C3: =+'Vert Sold'!N2 -> 634 | D3: =SUM(C3/B3) -> 1.1464738
A4: 2011 | B4: =+'Vert Listed'!N3 -> 1174 | C4: =+'Vert Sold'!N3 -> 887 | D4: =SUM(C4/B4) -> 0.75553663
A5: 2012 | B5: =+'Vert Listed'!N4 -> 1346 | C5: =+'Vert Sold'!N4 -> 809 | D5: =SUM(C5/B5) -> 0.60104012
A6: 2013 | C6: =+'Vert Sold'!N5 -> 281 | D6: =SUM(C6/B6) -> #DIV/0!

Sheet Vert Listed
B1: Jan | C1: Feb | D1: Mar | E1: Apr | F1: May | G1: Jun | H1: Jul | I1: Aug | J1: Sept | K1: Oct | L1: Nov | M1: Dec | N1: Total
A2: 2010 | F2: 68 | G2: 73 | H2: 61 | I2: 80 | J2: 64 | K2: 58 | L2: 57 | M2: 92 | N2: =SUM(B2:M2) -> 553
A3: 2011 | B3: 77 | C3: 78 | D3: 112 | E3: 133 | F3: 115 | G3: 107 | H3: 88 | I3: 88 | J3: 101 | K3: 106 | L3: 95 | M3: 74 | N3: =SUM(B3:M3) -> 1174
A4: 2012 | B4: 131 | C4: 94 | D4: 110 | E4: 123 | F4: 101 | G4: 133 | H4: 91 | I4: 161 | J4: 114 | K4: 116 | L4: 103 | M4: 69 | N4: =SUM(B4:M4) -> 1346
A5: 2013 | B5: 95 | C5: 110 | D5: 97 | E5: 121 | N5: =SUM(B5:M5) -> 423

Sheet Vert Sold
B1: Jan | C1: Feb | D1: Mar | E1: Apr | F1: May | G1: Jun | H1: Jul | I1: Aug | J1: Sept | K1: Oct | L1: Nov | M1: Dec | N1: Total
A2: 2010 | F2: 85 | G2: 81 | H2: 75 | I2: 77 | J2: 94 | K2: 78 | L2: 59 | M2: 85 | N2: =SUM(B2:M2) -> 634
A3: 2011 | B3: 84 | C3: 89 | D3: 86 | E3: 76 | F3: 91 | G3: 68 | H3: 74 | I3: 68 | J3: 66 | K3: 59 | L3: 50 | M3: 76 | N3: =SUM(B3:M3) -> 887
A4: 2012 | B4: 60 | C4: 61 | D4: 79 | E4: 65 | F4: 64 | G4: 75 | H4: 69 | I4: 59 | J4: 62 | K4: 70 | L4: 68 | M4: 77 | N4: =SUM(B4:M4) -> 809
A5: 2013 | B5: 58 | C5: 63 | D5: 74 | E5: 86 | N5: =SUM(B5:M5) -> 281

Sheet Vert Ave Price
A1: Vertical | B1: Jan | C1: Feb | D1: Mar | E1: Apr | F1: May | G1: Jun | H1: Jul | I1: Aug | J1: Sept | K1: Oct | L1: Nov | M1: Dec | N1: Total
A2: 2010 | F2: 227643 | G2: 236809 | H2: 233888 | I2: 251826 | J2: 286999 | K2: 188728 | L2: 196061 | M2: 227643 | N2: =SUM(F2:M2)/8 -> 231199.62
A3: 2011 | B3: 195986 | C3: 288166 | D3: 182800 | E3: 272271 | F3: 267433 | G3: 317238 | H3: 217574 | I3: 238767 | J3: 310217 | K3: 220629 | L3: 224949 | M3: 241897 | N3: =SUM(B3:M3)/11 -> 270720.64
A4: 2012 | B4: 258774 | C4: 391169 | D4: 193614 | E4: 210459 | F4: 311015 | G4: 351301 | H4: 306420 | I4: 272687 | J4: 267639 | K4: 275730 | L4: 327173 | M4: 277945 | N4: =SUM(B4:M4)/11 -> 313084.18
A5: 2013 | B5: 430943 | C5: 456388 | D5: 452770 | E5: 465425 | N5: =SUM(B5:M5)/4 -> 451381.5

Sheet Vert Med Price
B1: Vertical | C1: Jan | D1: Feb | E1: Mar | F1: Apr | G1: May | H1: Jun | I1: Jul | J1: Aug | K1: Sept | L1: Oct | M1: Nov | N1: Dec | O1: Total
B2: 2010 | G2: 175000 | H2: 157000 | I2: 155000 | J2: 155000 | K2: 171825 | L2: 170000 | M2: 160000 | N2: 175000 | O2: =SUM(G2:N2)/12 -> 109902.08
B3: 2011 | C3: 163750 | D3: 190000 | E3: 159200 | F3: 180000 | G3: 191000 | H3: 187000 | I3: 170000 | J3: 194000 | K3: 172500 | L3: 175000 | M3: 171250 | N3: 181000 | O3: =SUM(C3:N3)/12 -> 177891.67
B4: 2012 | C4: 174500 | D4: 253194 | E4: 155000 | F4: 190000 | G4: 227500 | H4: 235000 | I4: 222888 | J4: 215000 | K4: 228500 | L4: 250000 | M4: 231000 | N4: 232000 | O4: =SUM(C4:N4)/7 -> 373511.71
B5: 2013 | C5: 264500 | D5: 292000 | E5: 331000 | F5: 227500 | O5: =SUM(C5:N5)/7 -> 159285.71
